BEGIN:VCALENDAR
VERSION:2.0
PRODID:-//Le Grand Jeu Journal - ECPv6.15.13//NONSGML v1.0//EN
CALSCALE:GREGORIAN
METHOD:PUBLISH
X-WR-CALNAME:Le Grand Jeu Journal
X-ORIGINAL-URL:https://journal.legrandj.eu
X-WR-CALDESC:Events for Le Grand Jeu Journal
REFRESH-INTERVAL;VALUE=DURATION:PT1H
X-Robots-Tag:noindex
X-PUBLISHED-TTL:PT1H
BEGIN:VTIMEZONE
TZID:Europe/Paris
BEGIN:DAYLIGHT
TZOFFSETFROM:+0100
TZOFFSETTO:+0200
TZNAME:CEST
DTSTART:20250330T010000
END:DAYLIGHT
BEGIN:STANDARD
TZOFFSETFROM:+0200
TZOFFSETTO:+0100
TZNAME:CET
DTSTART:20251026T010000
END:STANDARD
BEGIN:DAYLIGHT
TZOFFSETFROM:+0100
TZOFFSETTO:+0200
TZNAME:CEST
DTSTART:20260329T010000
END:DAYLIGHT
BEGIN:STANDARD
TZOFFSETFROM:+0200
TZOFFSETTO:+0100
TZNAME:CET
DTSTART:20261025T010000
END:STANDARD
BEGIN:DAYLIGHT
TZOFFSETFROM:+0100
TZOFFSETTO:+0200
TZNAME:CEST
DTSTART:20270328T010000
END:DAYLIGHT
BEGIN:STANDARD
TZOFFSETFROM:+0200
TZOFFSETTO:+0100
TZNAME:CET
DTSTART:20271031T010000
END:STANDARD
END:VTIMEZONE
BEGIN:VEVENT
DTSTART;TZID=Europe/Paris:20260321T180000
DTEND;TZID=Europe/Paris:20260321T230000
DTSTAMP:20260425T145058
CREATED:20260310T124320Z
LAST-MODIFIED:20260317T115146Z
UID:10000061-1774116000-1774134000@journal.legrandj.eu
SUMMARY:Gotham #2 — Voices of Hip-Hop
DESCRIPTION:Hip-hop has always been a culture of voices\, streets\, and stories. Gotham magazine captures these moments\, blending interviews\, features\, and portraits of artists\, journalists\, and activists shaping the scene today. \nThe second issue highlights key figures and networks\, offering an insider perspective on rap\, graffiti\, performance\, and independent publishing—documenting the scene while celebrating its diversity and energy. \nLe Grand Jeu and Gotham Publishing invite you to an evening of talk and music at La Bellevilloise. From 18h to 20h\, join the discussion “Documenting and Telling Hip-Hop Culture” with Christian Omodeo\, Rapahël Da Cruz (L’Abcdrduson/CRU)\, Julien Boudisseau\, Marc Aurèle Vecchione and Rocé. From 20h to 23h\, chill with the Gotham Sound System\, featuring DJ Stresh\, DJ Fab and showcases by Rocé\, Vîrus\, Amnez\, Djex913 and guests. \nFree entry\, registration recommended here \n📖 Gotham #2 — Talk & Chill\n🗓 Saturday\, March 21\, 2026 | 🕓 From 6 PM\n📍 La Bellevilloise\, 19-21 rue Boyer\, Paris 20
URL:https://journal.legrandj.eu/event/gotham-2-voices-of-hip-hop/
LOCATION:La Bellevilloise\, 19-21 Rue Boyer\, Paris\, Paris\, 75020\, France
ATTACH;FMTTYPE=image/jpeg:https://journal.legrandj.eu/wp-content/uploads/2026/03/IMG_3327-scaled.jpeg
END:VEVENT
END:VCALENDAR