BEGIN:VCALENDAR
VERSION:2.0
PRODID:-//Le Grand Jeu Journal - ECPv6.15.13//NONSGML v1.0//EN
CALSCALE:GREGORIAN
METHOD:PUBLISH
X-WR-CALNAME:Le Grand Jeu Journal
X-ORIGINAL-URL:https://journal.legrandj.eu
X-WR-CALDESC:Events for Le Grand Jeu Journal
REFRESH-INTERVAL;VALUE=DURATION:PT1H
X-Robots-Tag:noindex
X-PUBLISHED-TTL:PT1H
BEGIN:VTIMEZONE
TZID:Europe/Paris
BEGIN:DAYLIGHT
TZOFFSETFROM:+0100
TZOFFSETTO:+0200
TZNAME:CEST
DTSTART:20250330T010000
END:DAYLIGHT
BEGIN:STANDARD
TZOFFSETFROM:+0200
TZOFFSETTO:+0100
TZNAME:CET
DTSTART:20251026T010000
END:STANDARD
BEGIN:DAYLIGHT
TZOFFSETFROM:+0100
TZOFFSETTO:+0200
TZNAME:CEST
DTSTART:20260329T010000
END:DAYLIGHT
BEGIN:STANDARD
TZOFFSETFROM:+0200
TZOFFSETTO:+0100
TZNAME:CET
DTSTART:20261025T010000
END:STANDARD
BEGIN:DAYLIGHT
TZOFFSETFROM:+0100
TZOFFSETTO:+0200
TZNAME:CEST
DTSTART:20270328T010000
END:DAYLIGHT
BEGIN:STANDARD
TZOFFSETFROM:+0200
TZOFFSETTO:+0100
TZNAME:CET
DTSTART:20271031T010000
END:STANDARD
END:VTIMEZONE
BEGIN:VEVENT
DTSTART;TZID=Europe/Paris:20260424T180000
DTEND;TZID=Europe/Paris:20260424T210000
DTSTAMP:20260419T153322
CREATED:20260415T115053Z
LAST-MODIFIED:20260415T115053Z
UID:10000072-1777053600-1777064400@journal.legrandj.eu
SUMMARY:Girls — Portrait Series
DESCRIPTION:Over the past three years\, this project has taken shape through a series of encounters\, captured without staging and without a fixed framework. Girls brings together these moments as they were — direct\, simple\, and unaltered. In Girls\, Jeanne Narquin brings together these moments as they were — direct\, simple\, and unaltered. \nSelf-published in a limited edition of 100 copies\, this first photobook assembles portraits of women met along the way. Rather than constructing a narrative\, the book builds a sequence — an accumulation of presences that reflects a personal rhythm of looking and photographing. \nLe Grand Jeu invites you to the launch of Girls\, accompanied by a photographic exhibition. The evening will unfold around the book and a selection of images\, offering a moment to discover the project\, meet the author\, and engage with a work shaped by time\, proximity\, and repetition. \n📖 Girls — Book Launch\, Signing & Exhibition🗓 Friday\, April 24 | 🕓 From 6PM📍 Le Grand Jeu\, 15 passage de Ménilmontant\, Paris 11
URL:https://journal.legrandj.eu/event/girls-portrait-series/
LOCATION:Le Grand Jeu\, 15\, passage de Ménilmontant\, Paris\, 75011\, France
ATTACH;FMTTYPE=image/jpeg:https://journal.legrandj.eu/wp-content/uploads/2026/04/kama.jpg
END:VEVENT
END:VCALENDAR